BEGIN:VCALENDAR
VERSION:2.0
PRODID:-//ChamberMaster//Event Calendar 2.0//EN
METHOD:PUBLISH
X-PUBLISHED-TTL:P3D
REFRESH-INTERVAL:P3D
CALSCALE:GREGORIAN
BEGIN:VEVENT
DTSTART:20230106T151500Z
DTEND:20230106T170000Z
X-MICROSOFT-CDO-ALLDAYEVENT:FALSE
SUMMARY:1/6 First Friday Breakfast
DESCRIPTION:
X-ALT-DESC;FMTTYPE=text/html:
LOCATION:El Cajon Elks Lodge 1400 E. Washington El Cajon\, CA 92109
UID:e.895.14479
SEQUENCE:3
DTSTAMP:20260420T162306Z
URL:https://business.eastcountychamber.org/events/details/1-6-first-friday-breakfast-14479
END:VEVENT

END:VCALENDAR
