BEGIN:VCALENDAR
VERSION:2.0
PRODID:-//ChamberMaster//Event Calendar 2.0//EN
METHOD:PUBLISH
X-PUBLISHED-TTL:P3D
REFRESH-INTERVAL:P3D
CALSCALE:GREGORIAN
BEGIN:VEVENT
DTSTART:20201016T003000Z
DTEND:20201016T030000Z
X-MICROSOFT-CDO-ALLDAYEVENT:FALSE
SUMMARY:10/15: Politics in Paradise
DESCRIPTION:Join us for an evening with local city\, state and federal candidates. Enjoy up-close\, personal interaction with them plus samples from local restaurants.
X-ALT-DESC;FMTTYPE=text/html:Join us for an evening with local city\, state and federal candidates. Enjoy up-close\, personal interaction with them plus samples from local restaurants.
LOCATION:The Water Conservation Garden 12122 Cuyamaca College Dr W\, El Cajon\, CA 92019
UID:e.895.10052
SEQUENCE:3
DTSTAMP:20260424T090810Z
URL:https://business.eastcountychamber.org/events/details/10-15-politics-in-paradise-10052
END:VEVENT

END:VCALENDAR
