BEGIN:VCALENDAR
VERSION:2.0
PRODID:-//ChamberMaster//Event Calendar 2.0//EN
METHOD:PUBLISH
X-PUBLISHED-TTL:P3D
REFRESH-INTERVAL:P3D
CALSCALE:GREGORIAN
BEGIN:VEVENT
DTSTART:20221115T200000Z
DTEND:20221115T211500Z
X-MICROSOFT-CDO-ALLDAYEVENT:FALSE
SUMMARY:11/15 Lunch & Learn | Happy New Laws!
DESCRIPTION:Question:  What do these three things have in common?\n\n	Bereavement leave\n	Cannabis use\n	Job postings\n\nAnswer:  All three are part of legislative updates impacting employers starting on January 1\, 2023.   \n\nJoin Amberly Morgan of Fisher Phillips as she shares what business owners need to know about new laws coming in 2023.  You can't afford to miss this one!
X-ALT-DESC;FMTTYPE=text/html:<strong><span style="font-size:18.0pt\;">Question</span></strong><span style="font-size:18.0pt\;">:&nbsp\; What do these three things have in common?</span>\n<ul>\n	<li><span style="font-size:18.0pt\;">Bereavement leave</span></li>\n	<li><span style="font-size:18.0pt\;">Cannabis use</span></li>\n	<li><span style="font-size:18.0pt\;">Job postings</span></li>\n</ul>\n<strong><span style="font-size:18.0pt\;">Answer</span></strong><span style="font-size:18.0pt\;">:&nbsp\; All three are part of legislative updates impacting employers starting on January 1\, 2023.&nbsp\;&nbsp\; </span><br />\n<span style="font-size:18.0pt\;">Join Amberly Morgan of Fisher Phillips as she shares what business owners <strong>need</strong> to know about new laws coming in 2023.&nbsp\; You can&rsquo\;t afford to miss this one!&nbsp\;&nbsp\; </span>
LOCATION:Join Zoom Meeting https://fisherphillips.zoom.us/j/99510409365?pwd=Nk5XZ3JaVE90UEFmTkxlTkFBQysxQT09 Meeting ID: 995 1040 9365 Passcode: FkPJEB9E4j One tap mobile +16699009128\,\,99510409365#\,\,\,\,*7255631608# US (San Jose) +16694449171\,\,99510409365#\,\,\,\,*7255631608# US Dial by your location +1 669 900 9128 US (San Jose) +1 669 444 9171 US +1 253 215 8782 US (Tacoma) +1 346 248 7799 US (Houston) +1 719 359 4580 US +1 507 473 4847 US +1 564 217 2000 US +1 646 558 8656 US (New York) +1 646 931 3860 US +1 689 278 1000 US +1 301 715 8592 US (Washington DC) +1 309 205 3325 US +1 312 626 6799 US (Chicago) +1 360 209 5623 US +1 386 347 5053 US 888 475 4499 US Toll-free 833 548 0276 US Toll-free 833 548 0282 US Toll-free 877 853 5257 US Toll-free Meeting ID: 995 1040 9365 Passcode: 7255631608 Find your local number: https://fisherphillips.zoom.us/u/ablqbXeCwB
UID:e.895.14447
SEQUENCE:3
DTSTAMP:20260420T233823Z
URL:https://business.eastcountychamber.org/events/details/11-15-lunch-learn-happy-new-laws-14447
END:VEVENT

END:VCALENDAR
