BEGIN:VCALENDAR
VERSION:2.0
PRODID:-//ChamberMaster//Event Calendar 2.0//EN
METHOD:PUBLISH
X-PUBLISHED-TTL:P3D
REFRESH-INTERVAL:P3D
CALSCALE:GREGORIAN
BEGIN:VEVENT
DTSTART:20221118T160000Z
DTEND:20221118T170000Z
X-MICROSOFT-CDO-ALLDAYEVENT:FALSE
SUMMARY:11/18 Cafecito & Networking
DESCRIPTION:@The Hamlett!!! We love spreading the love to our Chamber Member Businesses. Join us at THE HAMLETT in Lemon Grove for our monthly morning meet-up in partnership with the San Diego County Imperial Valley Hispanic Chamber of Commerce.
X-ALT-DESC;FMTTYPE=text/html:<span style="font-size:18px\;">@The Hamlett!!! We love spreading the love to our Chamber Member Businesses. Join us at THE HAMLETT in Lemon Grove for our monthly morning meet-up in partnership with the San Diego County Imperial Valley Hispanic Chamber of Commerce.</span>
LOCATION:The Hamlett 7801 Broadway Lemon Grove\, CA 91945
UID:e.895.14442
SEQUENCE:3
DTSTAMP:20260420T233527Z
URL:https://business.eastcountychamber.org/events/details/11-18-cafecito-networking-14442
END:VEVENT

END:VCALENDAR
