BEGIN:VCALENDAR
VERSION:2.0
PRODID:-//ChamberMaster//Event Calendar 2.0//EN
METHOD:PUBLISH
X-PUBLISHED-TTL:P3D
REFRESH-INTERVAL:P3D
CALSCALE:GREGORIAN
BEGIN:VEVENT
DTSTART:20221104T141500Z
DTEND:20221104T160000Z
X-MICROSOFT-CDO-ALLDAYEVENT:FALSE
SUMMARY:11/4 First Friday Breakfast
DESCRIPTION:2023 breakfast club goes on sale 11/4!\n\n\n\nPurchase an annual "Breakfast Club" Package for $200 & attend a full year of First Friday Breakfasts with no additional charge!\n\n*Available for active Chamber Members only\n\n*Good for 2023 only (1.6 | 2.3 | 3.3 | 4.7 | 5.5 | 6.2 | 7.7 | 8.4 | 9.8 | 10.6 | 11.3 | 12.1)\n\n*Breakfast Club is to be used\, and valid for\, the individual\, not the company/organization\n\n*Monthly registration is still required *Deadline is December 30\, 2022
X-ALT-DESC;FMTTYPE=text/html:<div>\n<div>\n<div>\n<p><span style="font-size:22px\;"><span style="font-family:arial\;"><strong>2023 breakfast club goes on sale 11/4!</strong></span></span></p>\n</div>\n\n<div>\n<p><span style="font-size:20px\;"><span style="font-family:arial\;">Purchase an annual &ldquo\;Breakfast Club&rdquo\; Package for $200 &amp\; attend a full year of First Friday Breakfasts with no additional charge!<br />\n*Available for active Chamber Members only<br />\n*Good for 2023 only (1.6 | 2.3 | 3.3 | 4.7 | 5.5 | 6.2 | 7.7 | 8.4 | 9.8 | 10.6 | 11.3 | 12.1)<br />\n*Breakfast Club is to be used\, and valid for\, the individual\, not the company/organization<br />\n*Monthly registration is still required *Deadline is December 30\, 2022</span></span></p>\n</div>\n</div>\n</div>\n
LOCATION:El Cajon Elks Lodge 1400 E. Washington El Cajon\, CA 92019
UID:e.895.14414
SEQUENCE:3
DTSTAMP:20260420T233323Z
URL:https://business.eastcountychamber.org/events/details/11-4-first-friday-breakfast-14414
END:VEVENT

END:VCALENDAR
