BEGIN:VCALENDAR
VERSION:2.0
PRODID:-//ChamberMaster//Event Calendar 2.0//EN
METHOD:PUBLISH
X-PUBLISHED-TTL:P3D
REFRESH-INTERVAL:P3D
CALSCALE:GREGORIAN
BEGIN:VEVENT
DTSTART:20221105T170000Z
DTEND:20221105T183000Z
X-MICROSOFT-CDO-ALLDAYEVENT:FALSE
SUMMARY:11/5 Brunch & Learn | Ignacio Law
DESCRIPTION:
X-ALT-DESC;FMTTYPE=text/html:
LOCATION:San Diego Regional East County Chamber of Commerce 201 S. Magnolia Ave. El Cajon\, CA 92020
UID:e.895.14436
SEQUENCE:3
DTSTAMP:20260421T031112Z
URL:https://business.eastcountychamber.org/events/details/11-5-brunch-learn-ignacio-law-14436
END:VEVENT

END:VCALENDAR
