BEGIN:VCALENDAR
VERSION:2.0
PRODID:-//ChamberMaster//Event Calendar 2.0//EN
METHOD:PUBLISH
X-PUBLISHED-TTL:P3D
REFRESH-INTERVAL:P3D
CALSCALE:GREGORIAN
BEGIN:VEVENT
DTSTART:20260929T180000Z
DTEND:20260929T210000Z
X-MICROSOFT-CDO-ALLDAYEVENT:FALSE
SUMMARY:11th Annual East County Manufacturing Expo at Cuyamaca College!
DESCRIPTION:
X-ALT-DESC;FMTTYPE=text/html:
LOCATION:Calling Manufacturers\, Students\, Job Seekers\, and everyone interested in Manufacturing. Join us in our annual celebration of National Manufacturing Day!! The East County EDC invites you to attend our 11th Annual East County Manufacturing Expo at Cuyamaca College! Date: September 29th\, 2026 When: 11 AM - 2 PM Questions: admin@eastcountyedc.org Reserve your spot today! https://lnkd.in/ghbdJaD2 This event will feature Job Opportunities In-Person Manufacturing Exhibitors Student Activities Manufacturing Workshops Networking & more!! Make an impact and grow your business! What is Manufacturing Day? Manufacturing Day offers manufacturers an opportunity to open their doors to the public and showcase the promise of modern manufacturing. Through this exciting exhibition\, manufacturers connect with future generations\, tell the story of modern manufacturing\, and come together to help their communities thrive.
UID:e.895.22101
SEQUENCE:3
DTSTAMP:20260425T123828Z
URL:https://business.eastcountychamber.org/events/details/11th-annual-east-county-manufacturing-expo-at-cuyamaca-college-22101
END:VEVENT

END:VCALENDAR
