BEGIN:VCALENDAR
VERSION:2.0
PRODID:-//ChamberMaster//Event Calendar 2.0//EN
METHOD:PUBLISH
X-PUBLISHED-TTL:P3D
REFRESH-INTERVAL:P3D
CALSCALE:GREGORIAN
BEGIN:VEVENT
DTSTART:20211203T151500Z
DTEND:20211203T170000Z
X-MICROSOFT-CDO-ALLDAYEVENT:FALSE
SUMMARY:12/3: First Friday Breakfast at Jamul Casino
DESCRIPTION:
X-ALT-DESC;FMTTYPE=text/html:
LOCATION:Jamul Casino 14145 Campo Rd\, Jamul\, CA 91935 Event being held at the Tony Gwynn Sports Pub!
UID:e.895.13420
SEQUENCE:3
DTSTAMP:20260422T165712Z
URL:https://business.eastcountychamber.org/events/details/12-3-first-friday-breakfast-at-jamul-casino-13420
END:VEVENT

END:VCALENDAR
