BEGIN:VCALENDAR
VERSION:2.0
PRODID:-//ChamberMaster//Event Calendar 2.0//EN
METHOD:PUBLISH
X-PUBLISHED-TTL:P3D
REFRESH-INTERVAL:P3D
CALSCALE:GREGORIAN
BEGIN:VEVENT
DTSTART:20241206T151500Z
DTEND:20241206T170000Z
X-MICROSOFT-CDO-ALLDAYEVENT:FALSE
SUMMARY:12/6 First Friday Breakfast
DESCRIPTION:Join us for the final First Friday Breakfast of 2024!!!
X-ALT-DESC;FMTTYPE=text/html:<span style="font-size:18px\;">Join us for the final First Friday Breakfast of 2024!!!</span>
LOCATION:BLACK BEAR DINER 1025 Fletcher Pkwy El Cajon\, CA 92020 Nominate a First Responder & Educator of the Month here! First Responder Educator
UID:e.895.17807
SEQUENCE:3
DTSTAMP:20260422T165118Z
URL:https://business.eastcountychamber.org/events/details/12-6-first-friday-breakfast-17807
END:VEVENT

END:VCALENDAR
