BEGIN:VCALENDAR
VERSION:2.0
PRODID:-//ChamberMaster//Event Calendar 2.0//EN
METHOD:PUBLISH
X-PUBLISHED-TTL:P3D
REFRESH-INTERVAL:P3D
CALSCALE:GREGORIAN
BEGIN:VEVENT
DTSTART:20230216T173000Z
DTEND:20230216T190000Z
X-MICROSOFT-CDO-ALLDAYEVENT:FALSE
SUMMARY:2/16 Ribbon Cutting Screenmobile of El Cajon
DESCRIPTION:Join us as we celebrate Screenmobile of El Cajon & Phantom Screens San Diego for their grand opening at a new warehouse!!!!
X-ALT-DESC;FMTTYPE=text/html:<span style="font-size:18px\;">Join us as we celebrate Screenmobile of El Cajon &amp\; Phantom Screens San Diego for their grand opening at a new warehouse!!!!</span>
LOCATION:868 Gable Way El Cajon\, CA 92020
UID:e.895.14568
SEQUENCE:3
DTSTAMP:20260420T122418Z
URL:https://business.eastcountychamber.org/events/details/2-16-ribbon-cutting-screenmobile-of-el-cajon-14568
END:VEVENT

END:VCALENDAR
