BEGIN:VCALENDAR
VERSION:2.0
PRODID:-//ChamberMaster//Event Calendar 2.0//EN
METHOD:PUBLISH
X-PUBLISHED-TTL:P3D
REFRESH-INTERVAL:P3D
CALSCALE:GREGORIAN
BEGIN:VEVENT
DTSTART:20230218T010000Z
DTEND:20230218T020000Z
X-MICROSOFT-CDO-ALLDAYEVENT:FALSE
SUMMARY:2/17 Business After Hours Mixer | ECAA
DESCRIPTION:ECAA presents Sounds in Canvas and invites Chamber members to attend a special Chamber Member Business After Hours Mixer from 5p-6p.\n\nOpening Reception begins at 6pm - this is a ticketed event that includes a beverage ticket\, light bites\, curated personal listening experience\, and artist talk. https://www.eventbrite.com/e/sounds-in-canvas-tickets-519485122987
X-ALT-DESC;FMTTYPE=text/html:<span style="font-size:18px\;">ECAA presents <em>Sounds in Canvas</em>&nbsp\;and invites Chamber members to attend a special Chamber Member Business After Hours Mixer from 5p-6p.<br />\nOpening Reception begins at 6pm - this is a ticketed event that includes a beverage ticket\, light bites\, curated personal listening experience\, and artist talk.&nbsp\;</span><span style="font-family:calibri\,sans-serif\;"><span style="font-size:11.0pt\;"><a href="https://www.eventbrite.com/e/sounds-in-canvas-tickets-519485122987" target="_blank">https://www.eventbrite.com/e/sounds-in-canvas-tickets-519485122987</a></span></span><br />\n&nbsp\;
LOCATION:East County Art Association Gallery 124 E Main St. El Cajon\, CA 92020
UID:e.895.14579
SEQUENCE:3
DTSTAMP:20260420T163008Z
URL:https://business.eastcountychamber.org/events/details/2-17-business-after-hours-mixer-ecaa-14579
END:VEVENT

END:VCALENDAR
