BEGIN:VCALENDAR
VERSION:2.0
PRODID:-//ChamberMaster//Event Calendar 2.0//EN
METHOD:PUBLISH
X-PUBLISHED-TTL:P3D
REFRESH-INTERVAL:P3D
CALSCALE:GREGORIAN
BEGIN:VEVENT
DTSTART:20230217T160000Z
DTEND:20230217T170000Z
X-MICROSOFT-CDO-ALLDAYEVENT:FALSE
SUMMARY:2/17 Cafecito & Networking | Lonesome Rider Coffee Co.
DESCRIPTION:Come together bright and early with our monthly Cafecito & Networking in partnership with the San Diego County Imperial Valley Hispanic Chamber of Commerce at Lonesome Rider Coffee Co.
X-ALT-DESC;FMTTYPE=text/html:<span style="font-size:18px\;">Come together bright and early with our monthly Cafecito &amp\; Networking in partnership with the San Diego County Imperial Valley Hispanic Chamber of Commerce at Lonesome Rider Coffee Co.</span>
LOCATION:Lonesome Rider Coffee Co. 415 Fletcher Parkway El Cajon\, CA 92020 Located inside Parkway Plaza's Food Court (Parking located in the middle parking structure...backs up to the 8)
UID:e.895.14578
SEQUENCE:3
DTSTAMP:20260420T163049Z
URL:https://business.eastcountychamber.org/events/details/2-17-cafecito-networking-lonesome-rider-coffee-co-14578
END:VEVENT

END:VCALENDAR
