BEGIN:VCALENDAR
VERSION:2.0
PRODID:-//ChamberMaster//Event Calendar 2.0//EN
METHOD:PUBLISH
X-PUBLISHED-TTL:P3D
REFRESH-INTERVAL:P3D
CALSCALE:GREGORIAN
BEGIN:VEVENT
DTSTART:20230223T200000Z
DTEND:20230223T213000Z
X-MICROSOFT-CDO-ALLDAYEVENT:FALSE
SUMMARY:2/23 Dine & Dialogue w/ Joel Anderson
DESCRIPTION:Sit down with County Supervisor\, district 2\, Joel Anderson!
X-ALT-DESC;FMTTYPE=text/html:<span style="font-size:18px\;">Sit down with County Supervisor\, district 2\, Joel Anderson!&nbsp\;</span>
LOCATION:San Diego Regional East County Chamber of Commerce 201 S. Magnolia Ave. El Cajon\, CA 92020
UID:e.895.14502
SEQUENCE:3
DTSTAMP:20260420T121810Z
URL:https://business.eastcountychamber.org/events/details/2-23-dine-dialogue-w-joel-anderson-14502
END:VEVENT

END:VCALENDAR
