BEGIN:VCALENDAR
VERSION:2.0
PRODID:-//ChamberMaster//Event Calendar 2.0//EN
METHOD:PUBLISH
X-PUBLISHED-TTL:P3D
REFRESH-INTERVAL:P3D
CALSCALE:GREGORIAN
BEGIN:VEVENT
DTSTART:20230207T200000Z
DTEND:20230207T213000Z
X-MICROSOFT-CDO-ALLDAYEVENT:FALSE
SUMMARY:2/7 El Cajon Citizen of the Year
DESCRIPTION:The El Cajon Citizen of the Year Committee invites you to attend the 2023 El Cajon Citizen of the Year awards ceremony\, honoring Richard Agundez.
X-ALT-DESC;FMTTYPE=text/html:<span style="font-size:18px\;">The El Cajon Citizen of the Year Committee invites you to attend the 2023 El Cajon Citizen&nbsp\;of the Year awards ceremony\, honoring Richard Agundez.</span>
LOCATION:El Cajon Elks Lodge 1400 E Washington Ave. El Cajon\, CA 92019
UID:e.895.14563
SEQUENCE:3
DTSTAMP:20260420T163750Z
URL:https://business.eastcountychamber.org/events/details/2-7-el-cajon-citizen-of-the-year-14563
END:VEVENT

END:VCALENDAR
