BEGIN:VCALENDAR
VERSION:2.0
PRODID:-//ChamberMaster//Event Calendar 2.0//EN
METHOD:PUBLISH
X-PUBLISHED-TTL:P3D
REFRESH-INTERVAL:P3D
CALSCALE:GREGORIAN
BEGIN:VEVENT
DTSTART:20210417T150000Z
DTEND:20210417T190000Z
X-MICROSOFT-CDO-ALLDAYEVENT:FALSE
SUMMARY:2021 El Cajon Community Dump Day
DESCRIPTION:Examples of what you may bring:\n\n  Furniture (e.g.\, sofas\, chairs and dressers)\n\n  Mattresses (please wrap prior to arriving at the event - special\n\nmattress disposal bags can be purchased at hardware stores\, e.g.\,\n\nHome Depot\, Lowe's\, etc.)\n\n  Appliances (e.g.\, washers\, dryers and refrigerators)\n\n  Greens (must be bagged or tied into bundles not to exceed 4' in\n\nlength or 18" in diameter)
X-ALT-DESC;FMTTYPE=text/html:Examples of what you may bring:<br />\n&bull\; Furniture (e.g.\, sofas\, chairs and dressers)<br />\n&bull\; Mattresses (please wrap prior to arriving at the event - special<br />\nmattress disposal bags can be purchased at hardware stores\, e.g.\,<br />\nHome Depot\, Lowe&rsquo\;s\, etc.)<br />\n&bull\; Appliances (e.g.\, washers\, dryers and refrigerators)<br />\n&bull\; Greens (must be bagged or tied into bundles not to exceed 4&rsquo\; in<br />\nlength or 18&rdquo\; in diameter)
LOCATION:Wells Park\, 1153 E. Madison Avenue
UID:e.895.13570
SEQUENCE:3
DTSTAMP:20260423T224141Z
URL:https://business.eastcountychamber.org/events/details/2021-el-cajon-community-dump-day-13570
END:VEVENT

END:VCALENDAR
