BEGIN:VCALENDAR
VERSION:2.0
PRODID:-//ChamberMaster//Event Calendar 2.0//EN
METHOD:PUBLISH
X-PUBLISHED-TTL:P3D
REFRESH-INTERVAL:P3D
CALSCALE:GREGORIAN
BEGIN:VEVENT
DTSTART:20260508T130000Z
DTEND:20260508T220000Z
X-MICROSOFT-CDO-ALLDAYEVENT:FALSE
SUMMARY:2026 Holes For Heroes Charity Golf Tournament
DESCRIPTION:
X-ALT-DESC;FMTTYPE=text/html:
LOCATION:2026 Holes For Heroes Charity Golf Tournament Presented by Saddles In Service Join us for a fun day of golf\, camaraderie\, and giving back at our 6th Annual Holes For Heroes Charity Golf Tournament! Saddles In Service is a nonprofit organization dedicated to combating the suicide rates of our nation's heroes\; Veterans\, Active-Duty Military\, and First Responders through equine-assisted learning and community engagement. Our horsemanship program\, given at no cost to heroes provides transformative experiences\, building resilience\, providing purpose\, and fostering a community of healing for those who sacrifice so much for us. Schedule 6:00 AM: Registration & Breakfast 8:00 AM: Shotgun Start (Scramble Format) 1:00 PM: Lunch & Awards Ceremony 100% of the proceeds raised go directly to our program services and equine support. Singing Hills Golf Club at Sycuan 3007 Dehesa Rd. Willow Glen 18-Hole Golf Course El Cajon\, CA 92019
UID:e.895.22095
SEQUENCE:3
DTSTAMP:20260421T041025Z
URL:https://business.eastcountychamber.org/events/details/2026-holes-for-heroes-charity-golf-tournament-22095
END:VEVENT

END:VCALENDAR
