BEGIN:VCALENDAR
VERSION:2.0
PRODID:-//ChamberMaster//Event Calendar 2.0//EN
METHOD:PUBLISH
X-PUBLISHED-TTL:P3D
REFRESH-INTERVAL:P3D
CALSCALE:GREGORIAN
BEGIN:VEVENT
DTSTART:20100116T190000Z
DTEND:20100116T190000Z
X-MICROSOFT-CDO-ALLDAYEVENT:FALSE
SUMMARY:24 Hour Fitness Open House/Ribbon Cutting
DESCRIPTION:Join Chamber Ambassadors at the Grand Opening ribbon cutting of the new 24 Hour Fitness at 198 W. Main St. in El Cajon.
X-ALT-DESC;FMTTYPE=text/html:Join Chamber Ambassadors at the Grand Opening ribbon cutting of the new 24 Hour Fitness at 198 W. Main St. in El Cajon.
LOCATION:198 W. Main Street\, El Cajon\, CA
UID:e.895.335
SEQUENCE:3
DTSTAMP:20260422T052057Z
URL:https://business.eastcountychamber.org/events/details/24-hour-fitness-open-house-ribbon-cutting-01-16-2010-335
END:VEVENT

END:VCALENDAR
