BEGIN:VCALENDAR
VERSION:2.0
PRODID:-//ChamberMaster//Event Calendar 2.0//EN
METHOD:PUBLISH
X-PUBLISHED-TTL:P3D
REFRESH-INTERVAL:P3D
CALSCALE:GREGORIAN
BEGIN:VEVENT
DTSTART:20260412T180000Z
DTEND:20260412T210000Z
X-MICROSOFT-CDO-ALLDAYEVENT:FALSE
SUMMARY:2nd Annual Goodwill Sustainability Fair
DESCRIPTION:
X-ALT-DESC;FMTTYPE=text/html:
LOCATION:Goodwill's Sustainability Fair Join us for our 2nd Annual Sustainability Fair. This event focuses on promoting sustainable practices and eco-friendly living. With activities ranging from upcycled fashion to DIY workshops\, there's something for everyone interested in leading a more sustainable lifestyle. Bring your family and friends for an afternoon filled with fun activities and learn from local non-profits and small businesses about their incredible work in our community. Don't miss this opportunity to learn and connect with your neighbors. We look forward to seeing you and thank you for Making Good Happen for people\, planet\, and prosperity.
UID:e.895.21996
SEQUENCE:3
DTSTAMP:20260423T215433Z
URL:https://business.eastcountychamber.org/events/details/2nd-annual-goodwill-sustainability-fair-21996
END:VEVENT

END:VCALENDAR
