BEGIN:VCALENDAR
VERSION:2.0
PRODID:-//ChamberMaster//Event Calendar 2.0//EN
METHOD:PUBLISH
X-PUBLISHED-TTL:P3D
REFRESH-INTERVAL:P3D
CALSCALE:GREGORIAN
BEGIN:VEVENT
DTSTART:20250311T183000Z
DTEND:20250311T193000Z
X-MICROSOFT-CDO-ALLDAYEVENT:FALSE
SUMMARY:3/11 Discovering the Attributes of Successful People Webinar
DESCRIPTION:Please join us for a Webinar on Discovering the Attributes of Successful People! Presented by i-Nett.
X-ALT-DESC;FMTTYPE=text/html:Please join us for a Webinar on Discovering the Attributes of Successful People! Presented by i-Nett.&nbsp\;
LOCATION:Online Zoom Link: https://us02web.zoom.us/j/86898778047?pwd=EjIoT0HHLuX2mSb8xG459eXErbVXuE.1&from=addon
UID:e.895.19155
SEQUENCE:3
DTSTAMP:20260422T212307Z
URL:https://business.eastcountychamber.org/events/details/3-11-discovering-the-attributes-of-successful-people-webinar-19155
END:VEVENT

END:VCALENDAR
