BEGIN:VCALENDAR
VERSION:2.0
PRODID:-//ChamberMaster//Event Calendar 2.0//EN
METHOD:PUBLISH
X-PUBLISHED-TTL:P3D
REFRESH-INTERVAL:P3D
CALSCALE:GREGORIAN
BEGIN:VEVENT
DTSTART:20250312T000000Z
DTEND:20250312T023000Z
X-MICROSOFT-CDO-ALLDAYEVENT:FALSE
SUMMARY:3/11 Ribbon Cutting - Nightwalker Caverns Escape Room
DESCRIPTION:Please join us for a Grand Opening at Nightwalker Caverns Escape Room Adventures! \n\n\n\nNightwalker Caverns presents: \n\n\n\nQuiz boxing Grand Opening! -- An exciting\, no contact\, TV-game show style trivia challenge. This game was specifically designed for people who like to have fun but don't want to crawl or get wet! Although there are hundreds of this game worldwide\, this will be the first and only available in the U.S.!
X-ALT-DESC;FMTTYPE=text/html:Please join us for a Grand Opening at Nightwalker Caverns Escape Room Adventures!&nbsp\;<br />\n<br />\nNightwalker Caverns presents:&nbsp\;<br />\n<br />\nQuiz boxing Grand Opening! -- An exciting\, no contact\, TV-game show style trivia challenge. This game was specifically designed for people who like to have fun but don&#39\;t want to crawl or get wet! Although there are hundreds of this game worldwide\, this will be the first and only available in the U.S.!&nbsp\;
LOCATION:Nightwalker Caverns Escape Room Adventures 6760 University Ave #100 San Diego\, CA 92115
UID:e.895.19152
SEQUENCE:3
DTSTAMP:20260422T212549Z
URL:https://business.eastcountychamber.org/events/details/3-11-ribbon-cutting-nightwalker-caverns-escape-room-19152
END:VEVENT

END:VCALENDAR
