BEGIN:VCALENDAR
VERSION:2.0
PRODID:-//ChamberMaster//Event Calendar 2.0//EN
METHOD:PUBLISH
X-PUBLISHED-TTL:P3D
REFRESH-INTERVAL:P3D
CALSCALE:GREGORIAN
BEGIN:VEVENT
DTSTART:20260311T193000Z
DTEND:20260311T210000Z
X-MICROSOFT-CDO-ALLDAYEVENT:FALSE
SUMMARY:3/11 VECA Luncheon - AGC
DESCRIPTION:You're invited to join us for the VECA Luncheon! Lunch sponsored by Comfort Keepers w/ Veteran Resource Guest\, Wave Neuroscience.
X-ALT-DESC;FMTTYPE=text/html:<span data-olk-copy-source="MessageBody" style="font-size: 16pt\; font-family: Calibri\, sans-serif\; color: rgb(36\, 36\, 36)\;">You&#39\;re invited to join us for the VECA Luncheon! Lunch sponsored by Comfort Keepers w/ Veteran Resource Guest\, Wave Neuroscience.</span>
LOCATION:Associated General Contractors\, San Diego 10140 Riverford Rd. Lakeside\, CA 92040
UID:e.895.21994
SEQUENCE:3
DTSTAMP:20260424T021934Z
URL:https://business.eastcountychamber.org/events/details/3-11-veca-luncheon-agc-21994
END:VEVENT

END:VCALENDAR
