BEGIN:VCALENDAR
VERSION:2.0
PRODID:-//ChamberMaster//Event Calendar 2.0//EN
METHOD:PUBLISH
X-PUBLISHED-TTL:P3D
REFRESH-INTERVAL:P3D
CALSCALE:GREGORIAN
BEGIN:VEVENT
DTSTART:20230317T000000Z
DTEND:20230317T020000Z
X-MICROSOFT-CDO-ALLDAYEVENT:FALSE
SUMMARY:3/16 Ribbon Cutting & Business After Hours
DESCRIPTION:Celebrate the 1yr anniversary of this veteran-owned chamber member business and stay for the VECA mixer w/ Remedy Rooter! 50/50 Pot of Gold (bring $5) and a St. Paddy's Outfit Contest!
X-ALT-DESC;FMTTYPE=text/html:<span style="font-size:18px\;">Celebrate the 1yr anniversary of this veteran-owned chamber member business and stay for the VECA mixer w/ Remedy Rooter! 50/50 Pot of Gold (bring $5) and a St. Paddy&#39\;s Outfit Contest!</span>
LOCATION:Remedy Rooter 208 Greenfield Dr. Suite K El Cajon\, CA 92020
UID:e.895.14582
SEQUENCE:3
DTSTAMP:20260420T082816Z
URL:https://business.eastcountychamber.org/events/details/3-16-ribbon-cutting-business-after-hours-14582
END:VEVENT

END:VCALENDAR
