BEGIN:VCALENDAR
VERSION:2.0
PRODID:-//ChamberMaster//Event Calendar 2.0//EN
METHOD:PUBLISH
X-PUBLISHED-TTL:P3D
REFRESH-INTERVAL:P3D
CALSCALE:GREGORIAN
BEGIN:VEVENT
DTSTART:20230317T150000Z
DTEND:20230317T160000Z
X-MICROSOFT-CDO-ALLDAYEVENT:FALSE
SUMMARY:3/17 Cafecito & Networking
DESCRIPTION:We are excited to be partnering up with the San Diego County Imperial Valley Hispanic Chamber of Commerce to support Rob's Brewpoint in El Cajon on the 3rd Friday of the month. Come Join Us!
X-ALT-DESC;FMTTYPE=text/html:<span style="font-size:18px\;"><span style="color: rgb(26\, 26\, 26)\; font-family: arial\;">We are excited to be partnering up with the San Diego County Imperial Valley Hispanic Chamber of Commerce to support Rob&#39\;s Brewpoint in El Cajon on the 3rd Friday of the month. Come Join Us!</span></span>
LOCATION:Rob's BrewPoint 153 E. Main St. El Cajon\, CA 92020
UID:e.895.14594
SEQUENCE:3
DTSTAMP:20260420T084200Z
URL:https://business.eastcountychamber.org/events/details/3-17-cafecito-networking-14594
END:VEVENT

END:VCALENDAR
