BEGIN:VCALENDAR
VERSION:2.0
PRODID:-//ChamberMaster//Event Calendar 2.0//EN
METHOD:PUBLISH
X-PUBLISHED-TTL:P3D
REFRESH-INTERVAL:P3D
CALSCALE:GREGORIAN
BEGIN:VEVENT
DTSTART:20210318T190000Z
DTEND:20210318T200000Z
X-MICROSOFT-CDO-ALLDAYEVENT:FALSE
SUMMARY:3/18: RJS LAW Lunch & Learn
DESCRIPTION:The Ongoing Pandemic: Learning how to secure your business and individual financial interests in a time of uncertainty. While the end of COVID pandemic is in sight\, business owners will be contending with the fallout of this past year for many years to come. A panel of tax\, business\, and estate planning experts from the RJS LAW will discuss planning and compliance considerations that every San Diego business owner should be aware of. They will cover important changes to the tax code\, PPP loan compliance\, business operational concerns\, and succession planning\, and estate planning
X-ALT-DESC;FMTTYPE=text/html:<span style="font-family:calibri\,sans-serif\;"><span style="font-size:11.0pt\;">The Ongoing Pandemic: Learning how to secure your business and individual financial interests in a time of uncertainty. While the end of COVID pandemic is in sight\, business owners will be contending with the fallout of this past year for many years to come. A panel of tax\, business\, and estate planning experts from the RJS LAW will discuss planning and compliance considerations that every San Diego business owner should be aware of. They will cover important changes to the tax code\, PPP loan compliance\, business operational concerns\, and succession planning\, and estate planning</span></span>
LOCATION:Virtual
UID:e.895.13432
SEQUENCE:3
DTSTAMP:20260424T011253Z
URL:https://business.eastcountychamber.org/events/details/3-18-rjs-law-lunch-learn-13432
END:VEVENT

END:VCALENDAR
