BEGIN:VCALENDAR
VERSION:2.0
PRODID:-//ChamberMaster//Event Calendar 2.0//EN
METHOD:PUBLISH
X-PUBLISHED-TTL:P3D
REFRESH-INTERVAL:P3D
CALSCALE:GREGORIAN
BEGIN:VEVENT
DTSTART:20260320T190000Z
DTEND:20260320T203000Z
X-MICROSOFT-CDO-ALLDAYEVENT:FALSE
SUMMARY:3/20 Volunteer Training
DESCRIPTION:Interested in volunteering? The Chamber could use your help! We're looking in the following areas of support:\n\n \n\nMembership:\n\n	Member retention calls   calling current members to check in with them\, invite them to an upcoming Chamber event\, remind them of membership due date\n	Membership outreach and spotlighting current members\n\n Events:\n\n\n	Attendance load-in of a-frames & banners\n	Attendance check-in assistance / greeter \n\n Social media/marketing:\n\n\n	Capturing event footage (videos & photos) to be shared across platforms for stories and posts. \n	Getting back to TikTok to promote the Chamber and Chamber Events (with Chamber branding and a marketing plan).\n	Member interviews/testimonials\n	Booking podcast appts (working with a fellow Chamber member\, i-Nett for this) with our Chairman's Club and Board members\n\n If any of the above are of interest to you\, please let us know.
X-ALT-DESC;FMTTYPE=text/html:<span style="font-size:16px\;"><span style="font-family:arial\;">Interested in volunteering? The Chamber could use your help! We&rsquo\;re looking in the following areas of support:<br />\n&nbsp\;<br />\nMembership:</span></span>\n<ul>\n	<li style="margin-left:0in\;"><span style="font-size:16px\;"><span style="font-family:arial\;">Member retention calls &ndash\; calling current members to check in with them\, invite them to an upcoming Chamber event\, remind them of membership due date</span></span></li>\n	<li style="margin-left:0in\;"><span style="font-size:16px\;"><span style="font-family:arial\;">Membership outreach and spotlighting current members</span></span></li>\n</ul>\n<span style="font-size:16px\;"> <span style="font-family:arial\;">Events:</span></span>\n\n<ul>\n	<li style="margin-left:0in\;"><span style="font-size:16px\;"><span style="font-family:arial\;">Attendance load-in of a-frames &amp\; banners</span></span></li>\n	<li style="margin-left:0in\;"><span style="font-size:16px\;"><span style="font-family:arial\;">Attendance check-in assistance / greeter&nbsp\;</span></span></li>\n</ul>\n<span style="font-size:16px\;"> <span style="font-family:arial\;">Social media/marketing:</span></span>\n\n<ul>\n	<li style="margin-left:0in\;"><span style="font-size:16px\;"><span style="font-family:arial\;">Capturing event footage (videos &amp\; photos) to be shared across platforms for stories and posts. </span></span></li>\n	<li style="margin-left:0in\;"><span style="font-size:16px\;"><span style="font-family:arial\;">Getting back to TikTok to promote the Chamber and Chamber Events (with Chamber branding and a marketing plan).</span></span></li>\n	<li style="margin-left:0in\;"><span style="font-size:16px\;"><span style="font-family:arial\;">Member interviews/testimonials</span></span></li>\n	<li style="margin-left:0in\;"><span style="font-size:16px\;"><span style="font-family:arial\;">Booking podcast appts (working with a fellow Chamber member\, i-Nett for this) with our Chairman&rsquo\;s Club and Board members</span></span></li>\n</ul>\n<span style="font-size:16px\;"> <span style="font-family:arial\;">If any of the above are of interest to you\, please let us know.&nbsp\;</span></span>
LOCATION:San Diego Regional East County Chamber of Commerce 201 S Magnolia Ave. El Cajon\, CA 92020
UID:e.895.21935
SEQUENCE:3
DTSTAMP:20260424T010354Z
URL:https://business.eastcountychamber.org/events/details/3-20-volunteer-training-21935
END:VEVENT

END:VCALENDAR
