BEGIN:VCALENDAR
VERSION:2.0
PRODID:-//ChamberMaster//Event Calendar 2.0//EN
METHOD:PUBLISH
X-PUBLISHED-TTL:P3D
REFRESH-INTERVAL:P3D
CALSCALE:GREGORIAN
BEGIN:VEVENT
DTSTART:20230321T153000Z
DTEND:20230321T213000Z
X-MICROSOFT-CDO-ALLDAYEVENT:FALSE
SUMMARY:3/21 Ethics in Business 2023
DESCRIPTION:The Ethics in Business Committee is seeking your participation as a Sponsor for our upcoming 2023 Ethics in Business Conference.\n\nWe have fulfilled all Facilitator positions.  THANK YOU!!!\n\n\n\nAs a valued member of the San Diego professional community your experience and support provide key insight for our students.\n\nThe event includes a keynote speaker\, videos\, lessons\, group discussions and breakout sessions.  Your role as a facilitator includes providing prompts and discussions of ethical scenarios at the table with five Junior and Senior high school students.  You will be provided an event and lesson program to utilize throughout. We encourage your willingness to share some of your professional and life experiences as it pertains to Ethics in Business and the target audience.\n\nEthics in Business (EIB) is a local program to instill ethical behavior in today's young people and is a joint venture of the San Diego Regional East County Chamber of Commerce\, Grossmont Union High School District College & Career Readiness Department\, and other local high schools.  It is a cooperative effort that includes a consortium of business\, education\, and community leaders.\n\nWatch the two-minute video of previous EIB days by clicking EVENTS and ETHICS IN BUSINESS from the https://eastcountychamber.org site.\n\nYour participation in this important program will make a positive difference in the lives of these students. You will have influenced the ethical life path of young people who will mature and participate in business\, vote\, rear children\, and serve others. We are looking for 25 facilitators in total. We encourage referrals of those that may be of interest.\n\nIn addition to Facilitators\, we are also seeking Sponsors.  Attached you will find our sponsor deck for your consideration.\n\nInterested? Please send your name\, title\, business name and contact information to Stephanie Deppensmith: events@eastcountychamber.org and reference EIB.\n\n \n\nThank you in advance for your support\,\n\n\n\nKaren Fleck\, Ethics in Business Chair                                                     \n\nAVP Marketing/Business Development East County School FCU    \n\nkfleck@eastcountyschools.org / 619-249-8448\n\n\n\nRick Wilson\, MBA CEO\n\nSan Diego Regional East County Chamber of Commerce              \n\nrickw@eastcountychamber.org / 619-440-6161
X-ALT-DESC;FMTTYPE=text/html:<font face="arial"><span style="font-size: 18px\;">The Ethics in Business Committee is seeking your participation as a Sponsor for our upcoming 2023 Ethics in Business Conference.<br />\nWe have fulfilled&nbsp\;all Facilitator positions.&nbsp\; THANK YOU!!!</span></font><br />\n<br />\n<font face="arial"><span style="font-size: 18px\;">As a valued member of the San Diego professional community your experience and support provide key insight for our students.</span></font><br />\n<font face="arial"><span style="font-size: 18px\;">The event includes a keynote speaker\, videos\, lessons\, group discussions and breakout sessions.&nbsp\; Your role as a facilitator includes providing prompts and discussions of ethical scenarios at the table with five Junior and Senior high school students.&nbsp\; You will be provided an event and lesson program to utilize throughout. We encourage your willingness to share some of your professional and life experiences as it pertains to Ethics in Business and the target audience.</span></font><br />\n<font face="arial"><span style="font-size: 18px\;">Ethics in Business (EIB) is a local program to instill ethical behavior in today&#39\;s young people and is a joint venture of the San Diego Regional East County Chamber of Commerce\, Grossmont Union High School District College &amp\; Career Readiness Department\, and other local high schools.&nbsp\; It is a cooperative effort that includes a consortium of business\, education\, and community leaders.</span></font><br />\n<span style="font-family: arial\; font-size: 18px\; color: black\;">Watch the two-minute video of previous EIB days by clicking EVENTS and ETHICS IN BUSINESS from the </span><a href="https://eastcountychamber.org/" style="font-family: arial\; font-size: 18px\;">https://eastcountychamber.org</a><span style="font-family: arial\; font-size: 18px\; color: black\;"> site.</span><br />\n<font face="arial"><span style="font-size: 18px\;">Your participation in this important program will make a positive difference in the lives of these students.&nbsp\;You will have influenced the ethical life path of young people who will mature and participate in business\, vote\, rear children\, and serve others. We are looking for 25 facilitators in total. We encourage referrals of those that may be of interest.</span></font><br />\n<font face="arial"><span style="font-size: 18px\;">In addition to Facilitators\, we are also seeking Sponsors.&nbsp\; Attached you will find our sponsor deck for your consideration.</span></font><br />\n<font face="arial"><span style="font-size: 18px\;">Interested? Please send your name\, title\, business name and contact information to Stephanie Deppensmith: </span></font><a href="mailto:events@eastcountychamber.org" style="font-family: arial\; font-size: 18px\;">events@eastcountychamber.org</a><font face="arial"><span style="font-size: 18px\;"> and reference EIB.</span></font><br />\n<font face="arial"><span style="font-size: 18px\;">&nbsp\;</span></font><br />\n<font face="arial"><span style="font-size: 18px\;">Thank you in advance for your support\,</span></font><br />\n<br />\n<font face="arial"><span style="font-size: 18px\;">Karen Fleck\, </span></font><em style="font-family: arial\; font-size: 18px\;">Ethics in Business Chair&nbsp\;&nbsp\;&nbsp\;&nbsp\;&nbsp\;&nbsp\;&nbsp\;&nbsp\;&nbsp\;&nbsp\;&nbsp\;&nbsp\;&nbsp\;&nbsp\;&nbsp\;&nbsp\;&nbsp\;&nbsp\;&nbsp\;&nbsp\;&nbsp\;&nbsp\;&nbsp\;&nbsp\;&nbsp\;&nbsp\;&nbsp\;&nbsp\; &nbsp\;&nbsp\;&nbsp\;&nbsp\;&nbsp\;&nbsp\;&nbsp\;&nbsp\;&nbsp\;&nbsp\;&nbsp\;&nbsp\;&nbsp\;&nbsp\;&nbsp\;&nbsp\;&nbsp\;&nbsp\;&nbsp\;&nbsp\;&nbsp\;&nbsp\;&nbsp\; </em><br />\n<em style="font-family: arial\, sans-serif\; font-size: 13.3333px\;">AVP Marketing/Business Development&nbsp\;East County School FCU&nbsp\; &nbsp\;&nbsp\;</em><br />\n<em style="font-family: arial\; font-size: 18px\;"><a href="mailto:kfleck@eastcountyschools.org">kfleck@eastcountyschools.org</a>&nbsp\;/ 619-249-8448</em><br />\n<br />\n<font face="arial"><span style="font-size: 18px\;">Rick Wilson\, </span></font><em style="font-family: arial\; font-size: 18px\;">MBA CEO<br />\nSan Diego Regional East County Chamber of Commerce&nbsp\; &nbsp\;&nbsp\;&nbsp\;&nbsp\;&nbsp\;&nbsp\;&nbsp\;&nbsp\;&nbsp\;&nbsp\;&nbsp\; </em><br />\n<a href="mailto:rickw@eastcountychamber.org" style="font-family: arial\; font-size: 18px\;">rickw@eastcountychamber.org</a><em style="font-family: arial\; font-size: 18px\;"> / 619-440-6161</em><br />\n&nbsp\;
LOCATION:Mt. Miguel High School 8585 Blossom Lane Spring Valley\, CA 91977
UID:e.895.14531
SEQUENCE:3
DTSTAMP:20260420T121708Z
URL:https://business.eastcountychamber.org/events/details/3-21-ethics-in-business-2023-14531
END:VEVENT

END:VCALENDAR
