BEGIN:VCALENDAR
VERSION:2.0
PRODID:-//ChamberMaster//Event Calendar 2.0//EN
METHOD:PUBLISH
X-PUBLISHED-TTL:P3D
REFRESH-INTERVAL:P3D
CALSCALE:GREGORIAN
BEGIN:VEVENT
DTSTART:20230322T183000Z
DTEND:20230322T200000Z
X-MICROSOFT-CDO-ALLDAYEVENT:FALSE
SUMMARY:3/22 Ribbon Cutting Bliss Care Foundation
DESCRIPTION:Join us as we celebrate the inauguration of Bliss Care Foundation!
X-ALT-DESC;FMTTYPE=text/html:<span style="font-size:18px\;">Join us as we celebrate the inauguration of Bliss Care Foundation!</span>
LOCATION:1283 E. Main St. El Cajon\, CA 92021
UID:e.895.14585
SEQUENCE:3
DTSTAMP:20260420T084826Z
URL:https://business.eastcountychamber.org/events/details/3-22-ribbon-cutting-bliss-care-foundation-14585
END:VEVENT

END:VCALENDAR
