BEGIN:VCALENDAR
VERSION:2.0
PRODID:-//ChamberMaster//Event Calendar 2.0//EN
METHOD:PUBLISH
X-PUBLISHED-TTL:P3D
REFRESH-INTERVAL:P3D
CALSCALE:GREGORIAN
BEGIN:VEVENT
DTSTART:20230323T230000Z
DTEND:20230324T010000Z
X-MICROSOFT-CDO-ALLDAYEVENT:FALSE
SUMMARY:3/23 Ribbon Cutting & Business After Hours
DESCRIPTION:Join us for the ribbon cutting\, grand opening\, and business after hours mixer at XL Staffing & Security.  Tours and tacos will be provided!
X-ALT-DESC;FMTTYPE=text/html:<span style="font-size:18px\;">Join us for the ribbon cutting\, grand opening\, and business after hours mixer at XL Staffing &amp\; Security.&nbsp\; Tours and tacos will be provided!</span>
LOCATION:Team XL's new office 826 Jackman St. El Cajon\, CA 92020
UID:e.895.14581
SEQUENCE:3
DTSTAMP:20260420T122436Z
URL:https://business.eastcountychamber.org/events/details/3-23-ribbon-cutting-business-after-hours-14581
END:VEVENT

END:VCALENDAR
