BEGIN:VCALENDAR
VERSION:2.0
PRODID:-//ChamberMaster//Event Calendar 2.0//EN
METHOD:PUBLISH
X-PUBLISHED-TTL:P3D
REFRESH-INTERVAL:P3D
CALSCALE:GREGORIAN
BEGIN:VEVENT
DTSTART:20210328T000000Z
DTEND:20210328T020000Z
X-MICROSOFT-CDO-ALLDAYEVENT:FALSE
SUMMARY:3/27: Annual Dinner
DESCRIPTION:East County Honors has become the premier event celebration in San Diego East County\, honoring businesses and individuals for their accomplishments and recognizing the tremendous and lasting impact they have made on our community
X-ALT-DESC;FMTTYPE=text/html:<span style="border:none windowtext 1.0pt\;padding:0in\;"><span style="font-family:calibri\,sans-serif\;"><span style="font-size:12.0pt\;">East County Honors has become the premier event celebration in San Diego East County\, honoring businesses and individuals for their accomplishments and recognizing the tremendous and lasting impact they have made on our community</span></span></span>
LOCATION:This year's Awards Gala will be held virtually.
UID:e.895.13396
SEQUENCE:3
DTSTAMP:20260424T023257Z
URL:https://business.eastcountychamber.org/events/details/3-27-annual-dinner-13396
END:VEVENT

END:VCALENDAR
