BEGIN:VCALENDAR
VERSION:2.0
PRODID:-//ChamberMaster//Event Calendar 2.0//EN
METHOD:PUBLISH
X-PUBLISHED-TTL:P3D
REFRESH-INTERVAL:P3D
CALSCALE:GREGORIAN
BEGIN:VEVENT
DTSTART:20230306T010000Z
DTEND:20230306T050000Z
X-MICROSOFT-CDO-ALLDAYEVENT:FALSE
SUMMARY:3/5 East County Honors Awards Gala
DESCRIPTION:5:00pm - 6:00pm: Arrival/Check-in | Cocktail Hour | Silent Auction | Photobooth\n\n6:00pm - 8:00pm: Dinner | Awards | Swearing in of new Board Members\n\n8:00pm - 9:00pm: Dancing | Silent Auction | Photobooth & FUN!\n\nItems to Note:\n\n*Cocktail Attire / Black Tie Optional\n\n*Valet Parking is available for hotel guests and Sycuan Black Card holders only.\n\n*Shuttles will be running transportation to and from parking structure.\n\n*Cash Bar\n\n*All attendees must be 21+\n\n\n\n\n\nJoin us as we celebrate 111 years recognizing and honoring East County's outstanding businesses and community leaders.\n\nEnjoy an unforgettable night with dinner\, entertainment\, silent auction\, and more.\n\n\n\nThe San Diego Regional East County Chamber of Commerce will swear in the new Board of Directors for 2023.
X-ALT-DESC;FMTTYPE=text/html:<p><span style="font-size:18px\;">5:00pm - 6:00pm: Arrival/Check-in | Cocktail Hour | Silent Auction | Photobooth<br />\n6:00pm - 8:00pm: Dinner | Awards | Swearing in of new Board Members<br />\n8:00pm - 9:00pm: Dancing | Silent Auction | Photobooth &amp\; FUN!<br />\nItems to Note:<br />\n*Cocktail Attire / Black Tie Optional<br />\n*Valet Parking is available for hotel guests and Sycuan Black Card holders only.<br />\n*Shuttles will be running transportation to and from parking structure.<br />\n*Cash Bar<br />\n*All attendees must be 21+</span></p>\n\n<p><br />\n<br />\n<span style="font-size:18px\;"><span style="font-family:arial\;">Join us&nbsp\;as we celebrate 111 years recognizing and honoring East County&#39\;s outstanding businesses and community leaders.</span></span></p>\n\n<p><span style="font-size:18px\;"><span style="font-family:arial\;">Enjoy an unforgettable night&nbsp\;with dinner\, entertainment\, silent auction\, and more.<br />\n<br />\nThe San Diego Regional East County Chamber of Commerce will swear in the new Board of Directors for 2023.</span></span></p>\n
LOCATION:Sycuan Casino Resort 5469 Casino Way El Cajon\, CA 92019
UID:e.895.14501
SEQUENCE:3
DTSTAMP:20260420T082718Z
URL:https://business.eastcountychamber.org/events/details/3-5-east-county-honors-awards-gala-14501
END:VEVENT

END:VCALENDAR
