BEGIN:VCALENDAR
VERSION:2.0
PRODID:-//ChamberMaster//Event Calendar 2.0//EN
METHOD:PUBLISH
X-PUBLISHED-TTL:P3D
REFRESH-INTERVAL:P3D
CALSCALE:GREGORIAN
BEGIN:VEVENT
DTSTART:20210305T160000Z
DTEND:20210305T171500Z
X-MICROSOFT-CDO-ALLDAYEVENT:FALSE
SUMMARY:3/5: First Friday Breakfast
DESCRIPTION:
X-ALT-DESC;FMTTYPE=text/html:
LOCATION:Virtual First Friday Breakfast! RSVP to get access!
UID:e.895.10132
SEQUENCE:3
DTSTAMP:20260424T011202Z
URL:https://business.eastcountychamber.org/events/details/3-5-first-friday-breakfast-10132
END:VEVENT

END:VCALENDAR
