BEGIN:VCALENDAR
VERSION:2.0
PRODID:-//ChamberMaster//Event Calendar 2.0//EN
METHOD:PUBLISH
X-PUBLISHED-TTL:P3D
REFRESH-INTERVAL:P3D
CALSCALE:GREGORIAN
BEGIN:VEVENT
DTSTART:20230413T000000Z
DTEND:20230413T030000Z
X-MICROSOFT-CDO-ALLDAYEVENT:FALSE
SUMMARY:4/12 Grand Opening & Ribbon Cutting - Endeavor Bank
DESCRIPTION:Join us as we celebrate Endeavor Bank with a ribbon cutting & business after hours mixer and stay for an evening filled with refreshments\, food\, fun\, & entertainment\, as they launch their newest location!
X-ALT-DESC;FMTTYPE=text/html:<div>\n<p><span style="font-size:18px\;"><span style="font-family:arial\;">Join us as we celebrate Endeavor Bank with a ribbon cutting &amp\; business after hours mixer and stay for an evening filled with refreshments\, food\, fun\, &amp\; entertainment\, as they launch their newest location!</span></span></p>\n</div>\n
LOCATION:Endeavor Bank - East County 9400 Grossmont Summit Dr. Suite 201 La Mesa\, CA 91942
UID:e.895.14619
SEQUENCE:3
DTSTAMP:20260420T051826Z
URL:https://business.eastcountychamber.org/events/details/4-12-grand-opening-ribbon-cutting-endeavor-bank-14619
END:VEVENT

END:VCALENDAR
