BEGIN:VCALENDAR
VERSION:2.0
PRODID:-//ChamberMaster//Event Calendar 2.0//EN
METHOD:PUBLISH
X-PUBLISHED-TTL:P3D
REFRESH-INTERVAL:P3D
CALSCALE:GREGORIAN
BEGIN:VEVENT
DTSTART:20230414T183000Z
DTEND:20230414T200000Z
X-MICROSOFT-CDO-ALLDAYEVENT:FALSE
SUMMARY:4/14 Ribbon Cutting & Grand Opening - Maali Salon & Spa
DESCRIPTION:Join us for the Grand Opening & Ribbon Cutting of Maali Salon & Spa
X-ALT-DESC;FMTTYPE=text/html:<span style="font-size:18px\;">Join us for the Grand Opening &amp\; Ribbon Cutting of Maali Salon &amp\; Spa</span>
LOCATION:123 E Main St. El Cajon\, CA 92020
UID:e.895.14667
SEQUENCE:3
DTSTAMP:20260420T051600Z
URL:https://business.eastcountychamber.org/events/details/4-14-ribbon-cutting-grand-opening-maali-salon-spa-14667
END:VEVENT

END:VCALENDAR
