BEGIN:VCALENDAR
VERSION:2.0
PRODID:-//ChamberMaster//Event Calendar 2.0//EN
METHOD:PUBLISH
X-PUBLISHED-TTL:P3D
REFRESH-INTERVAL:P3D
CALSCALE:GREGORIAN
BEGIN:VEVENT
DTSTART:20220416T000000Z
DTEND:20220416T020000Z
X-MICROSOFT-CDO-ALLDAYEVENT:FALSE
SUMMARY:4/15 Business After Hours Mixer
DESCRIPTION:Our Kickball Tournament has been postponed. However\, we are still going to have our Business After Hours Mixer in the Sports Pub.  Start your weekend early and network after work.
X-ALT-DESC;FMTTYPE=text/html:<span style="font-size:18px\;">Our Kickball Tournament has been postponed. However\, we are still going to have our Business After Hours Mixer in the Sports Pub.&nbsp\; Start your weekend early and network after work.</span>
LOCATION:Sportsplex USA Santee Sports Pub 5591 Riverwalk Dr. Santee\, CA 92071
UID:e.895.13985
SEQUENCE:3
DTSTAMP:20260422T013736Z
URL:https://business.eastcountychamber.org/events/details/4-15-business-after-hours-mixer-13985
END:VEVENT

END:VCALENDAR
