BEGIN:VCALENDAR
VERSION:2.0
PRODID:-//ChamberMaster//Event Calendar 2.0//EN
METHOD:PUBLISH
X-PUBLISHED-TTL:P3D
REFRESH-INTERVAL:P3D
CALSCALE:GREGORIAN
BEGIN:VEVENT
DTSTART:20220421T190000Z
DTEND:20220421T203000Z
X-MICROSOFT-CDO-ALLDAYEVENT:FALSE
SUMMARY:4/21 Dine & Dialogue w/Summer Stephan
DESCRIPTION:District Attorney Summer Stephan sits down with East County Chamber Members in this intimate setting to discuss current issues facing the community.\n\nSponsored by: Cox Communications
X-ALT-DESC;FMTTYPE=text/html:<span style="color: rgb(67\, 71\, 71)\; font-family: &quot\;Open Sans&quot\;\, Arial\, &quot\;Helvetica Neue&quot\;\, Helvetica\, sans-serif\; font-size: 18px\;">District Attorney Summer Stephan sits down with East County Chamber Members in this intimate setting to discuss current issues facing the community.<br />\nSponsored by: Cox Communications</span>
LOCATION:San Diego Regional East County Chamber of Commerce Business Resource Center 201 S. Magnolia Ave. El Cajon\, CA 92020
UID:e.895.13995
SEQUENCE:3
DTSTAMP:20260422T011403Z
URL:https://business.eastcountychamber.org/events/details/4-21-dine-dialogue-w-summer-stephan-13995
END:VEVENT

END:VCALENDAR
