BEGIN:VCALENDAR
VERSION:2.0
PRODID:-//ChamberMaster//Event Calendar 2.0//EN
METHOD:PUBLISH
X-PUBLISHED-TTL:P3D
REFRESH-INTERVAL:P3D
CALSCALE:GREGORIAN
BEGIN:VEVENT
DTSTART:20230421T190000Z
DTEND:20230421T200000Z
X-MICROSOFT-CDO-ALLDAYEVENT:FALSE
SUMMARY:4/21 Membership Orientation
DESCRIPTION:Grab your lunch and join us for our monthly membership orientation.  Take an in-depth look at the history of the Chamber and learn all the ways we're here to help support\, connect\, and grow your business.  Open to new\, current\, and prospective members.
X-ALT-DESC;FMTTYPE=text/html:<span style="font-family: arial\; font-size: 18px\;">Grab your lunch and join us for our monthly membership orientation.&nbsp\; Take an in-depth look at the history of the Chamber and learn all the ways we&#39\;re here to help support\, connect\, and grow your business.&nbsp\; Open to new\, current\, and prospective members.</span>
LOCATION:San Diego Regional East County Chamber of Commerce 201 S. Magnolia Ave. El Cajon\, CA 92020
UID:e.895.14519
SEQUENCE:3
DTSTAMP:20260420T051044Z
URL:https://business.eastcountychamber.org/events/details/4-21-membership-orientation-14519
END:VEVENT

END:VCALENDAR
