BEGIN:VCALENDAR
VERSION:2.0
PRODID:-//ChamberMaster//Event Calendar 2.0//EN
METHOD:PUBLISH
X-PUBLISHED-TTL:P3D
REFRESH-INTERVAL:P3D
CALSCALE:GREGORIAN
BEGIN:VEVENT
DTSTART:20230428T190000Z
DTEND:20230428T203000Z
X-MICROSOFT-CDO-ALLDAYEVENT:FALSE
SUMMARY:4/28 Dine & Dialogue w/ CA State Senator Brian W. Jones
DESCRIPTION:Brian has served in the California State Senate since 2018. He represented California's 38th Senate District from 2018-2022. In 2022\, Brian was elected to represent California's 40th Senate District. Brian is proud to serve as the Senate Minority Leader of the California Senate Republican Caucus. He also serves as the co-Chair of the Senate Outdoor Sporting Caucus. In the Senate\, he has sponsored legislation that tackles homelessness\, keeps our communities safe\, lowers the cost of living\, and removes bureaucratic barriers for businesses and Californians. Brian is known for his Are You Kidding Me? videos that shine a light on the nonsensical policy often coming out of Sacramento.
X-ALT-DESC;FMTTYPE=text/html:<span style="font-family:arial\,sans-serif\;"><span style="font-size:12.0pt\;">Brian has served in the California State Senate since 2018. He represented California&rsquo\;s 38th Senate District from 2018-2022. In 2022\, Brian was elected to represent California&rsquo\;s 40th Senate District. Brian is proud to serve as the Senate Minority Leader of the California Senate Republican Caucus. He also serves as the co-Chair of the Senate Outdoor Sporting Caucus. In the Senate\, he has sponsored legislation that tackles homelessness\, keeps our communities safe\, lowers the cost of living\, and removes bureaucratic barriers for businesses and Californians. Brian is known for his <em>Are You Kidding M</em>e? videos that shine a light on the nonsensical policy often coming out of Sacramento.</span></span>
LOCATION:San Diego Regional East County Chamber of Commerce 201 S. Magnolia Ave. El Cajon\, CA 92020
UID:e.895.14596
SEQUENCE:3
DTSTAMP:20260420T051328Z
URL:https://business.eastcountychamber.org/events/details/4-28-dine-dialogue-w-ca-state-senator-brian-w-jones-14596
END:VEVENT

END:VCALENDAR
