BEGIN:VCALENDAR
VERSION:2.0
PRODID:-//ChamberMaster//Event Calendar 2.0//EN
METHOD:PUBLISH
X-PUBLISHED-TTL:P3D
REFRESH-INTERVAL:P3D
CALSCALE:GREGORIAN
BEGIN:VEVENT
DTSTART:20220428T170000Z
DTEND:20220429T000000Z
X-MICROSOFT-CDO-ALLDAYEVENT:FALSE
SUMMARY:4/28 VR Demo Day & Ribbon Cutting
DESCRIPTION:The Future is Now!\n\nCelebrate the launch of VR for Main Street & meet the latest Chamber Member: TEMI
X-ALT-DESC;FMTTYPE=text/html:<span style="font-size:18px\;">The Future is Now!<br />\nCelebrate the launch of <em>VR for Main Street&nbsp\;</em>&amp\; meet the latest Chamber Member: TEMI</span>
LOCATION:San Diego Regional East County Chamber of Commerce 201 S. Magnolia Ave. El Cajon\, CA 92020
UID:e.895.13999
SEQUENCE:3
DTSTAMP:20260422T014028Z
URL:https://business.eastcountychamber.org/events/details/4-28-vr-demo-day-ribbon-cutting-13999
END:VEVENT

END:VCALENDAR
