BEGIN:VCALENDAR
VERSION:2.0
PRODID:-//ChamberMaster//Event Calendar 2.0//EN
METHOD:PUBLISH
X-PUBLISHED-TTL:P3D
REFRESH-INTERVAL:P3D
CALSCALE:GREGORIAN
BEGIN:VEVENT
DTSTART:20220430T010000Z
DTEND:20220430T030000Z
X-MICROSOFT-CDO-ALLDAYEVENT:FALSE
SUMMARY:4/29 Business After Hours Mixer - East County Art Association
DESCRIPTION:The East County Art Association presents Uniquely You. Enjoy this Business After Hours Mixer with art\, bites\, beverages\, and live voting on art exhibitions.  Prizes will be awarded.
X-ALT-DESC;FMTTYPE=text/html:<span style="font-size:18px\;">The East County Art Association presents&nbsp\;<em>Uniquely You</em>. Enjoy this Business After Hours Mixer with art\, bites\, beverages\, and live voting on art exhibitions.&nbsp\; Prizes will be awarded.</span>
LOCATION:East County Art Association Gallery 124 E. Main St. El Cajon\, CA 92020
UID:e.895.14015
SEQUENCE:3
DTSTAMP:20260422T014507Z
URL:https://business.eastcountychamber.org/events/details/4-29-business-after-hours-mixer-east-county-art-association-14015
END:VEVENT

END:VCALENDAR
