BEGIN:VCALENDAR
VERSION:2.0
PRODID:-//ChamberMaster//Event Calendar 2.0//EN
METHOD:PUBLISH
X-PUBLISHED-TTL:P3D
REFRESH-INTERVAL:P3D
CALSCALE:GREGORIAN
BEGIN:VEVENT
DTSTART:20230405T000000Z
DTEND:20230405T020000Z
X-MICROSOFT-CDO-ALLDAYEVENT:FALSE
SUMMARY:4/4 Business After Hours Mixer w/Homestreet Bank
DESCRIPTION:Join us at the El Cajon branch of HomeStreet Bank
X-ALT-DESC;FMTTYPE=text/html:<span style="font-size:18px\;">Join us at the El Cajon branch of HomeStreet Bank</span>
LOCATION:HomeStreet Bank - El Cajon 368 Broadway El Cajon\, CA 92021
UID:e.895.14597
SEQUENCE:3
DTSTAMP:20260420T051857Z
URL:https://business.eastcountychamber.org/events/details/4-4-business-after-hours-mixer-w-homestreet-bank-14597
END:VEVENT

END:VCALENDAR
