BEGIN:VCALENDAR
VERSION:2.0
PRODID:-//ChamberMaster//Event Calendar 2.0//EN
METHOD:PUBLISH
X-PUBLISHED-TTL:P3D
REFRESH-INTERVAL:P3D
CALSCALE:GREGORIAN
BEGIN:VEVENT
DTSTART:20220519T183000Z
DTEND:20220520T000000Z
X-MICROSOFT-CDO-ALLDAYEVENT:FALSE
SUMMARY:5/19: 20th Grip It & Rip It! Golf Tournament
DESCRIPTION:20th Annual Grip It & Rip It! Golf Tournament\n\n\n\n*Event includes one round of golf and lunch\n\n\n\n*Must be 21+ to play
X-ALT-DESC;FMTTYPE=text/html:<span style="font-size:16px\;"><span style="font-family:arial\;">20th Annual Grip It &amp\; Rip It! Golf Tournament<br />\n<br />\n*Event includes one round of golf and lunch<br />\n<br />\n*Must be 21+ to play</span></span>
LOCATION:Singing Hills Golf Resort 3007 Dehesa Rd. El Cajon\, CA 92019
UID:e.895.13937
SEQUENCE:3
DTSTAMP:20260421T220048Z
URL:https://business.eastcountychamber.org/events/details/5-19-20th-grip-it-rip-it-golf-tournament-13937
END:VEVENT

END:VCALENDAR
