BEGIN:VCALENDAR
VERSION:2.0
PRODID:-//ChamberMaster//Event Calendar 2.0//EN
METHOD:PUBLISH
X-PUBLISHED-TTL:P3D
REFRESH-INTERVAL:P3D
CALSCALE:GREGORIAN
BEGIN:VEVENT
DTSTART:20240523T173000Z
DTEND:20240523T230000Z
X-MICROSOFT-CDO-ALLDAYEVENT:FALSE
SUMMARY:5/23 Grip It & Rip It! Golf Tournament
DESCRIPTION:22nd Annual Grip It & Rip It! Golf Tournament\n\n*Event includes one round of golf and lunch\n\n*Must be 21+ to play\n\nSinging Hills Policies & Procedures\n\nDonated Product Guidelines\n\nSponsor Guidelines\n\n\n\n\n\nChallenge yourself on Willow Glen\, a par 72 course\, with demanding\, narrow fairways and strategically placed bunkers. Sweetwater River runs along the course and comes into play on many holes\, providing dramatic scenery and difficult shots. The layout contains several dogleg holes\, elevation changes and water crossings that create an incomparable day of golf for enthusiasts. Ted Robinson redesigned Willow Glen in 1980.
X-ALT-DESC;FMTTYPE=text/html:<span style="font-size:18px\;"><span style="font-family:arial\;">22nd Annual Grip It &amp\; Rip It! Golf Tournament<br />\n*Event includes one round of golf and lunch<br />\n*Must be 21+ to play</span><br />\n<a href="https://chambermaster.blob.core.windows.net/userfiles/UserFiles/chambers/895/File/GolfCourseRules.pdf">Singing Hills Policies &amp\; Procedures</a><br />\n<a href="https://chambermaster.blob.core.windows.net/userfiles/UserFiles/chambers/895/File/DonatedProduct.pdf">Donated Product Guidelines</a><br />\n<a href="https://chambermaster.blob.core.windows.net/userfiles/UserFiles/chambers/895/File/SponsorGuidelines.pdf">Sponsor Guidelines</a></span><br />\n<br />\n<br />\n<span style="font-family: &quot\;Avenir Next&quot\;\, sans-serif\; font-size: 20px\; text-align: center\;">Challenge yourself on Willow Glen\, a par 72 course\, with demanding\, narrow fairways and strategically placed bunkers. Sweetwater River runs along the course and comes into play on many holes\, providing dramatic scenery and difficult shots. The layout contains several dogleg holes\, elevation changes and water crossings that create an incomparable day of&nbsp\;</span><a href="https://www.singinghillsgolfclub.com/golf/" style="box-sizing: border-box\; text-decoration-line: none\; color: rgb(214\, 99\, 33)\; box-shadow: none\; font-family: &quot\;Avenir Next&quot\;\, sans-serif\; font-size: 20px\; text-align: center\;">golf</a><span style="font-family: &quot\;Avenir Next&quot\;\, sans-serif\; font-size: 20px\; text-align: center\;">&nbsp\;for enthusiasts. Ted Robinson redesigned Willow Glen in 1980.</span>
LOCATION:Singing Hills Golf Club 3007 Dehesa Rd. El Cajon\, CA 92019
UID:e.895.15577
SEQUENCE:3
DTSTAMP:20260423T025311Z
URL:https://business.eastcountychamber.org/events/details/5-23-grip-it-rip-it-golf-tournament-15577
END:VEVENT

END:VCALENDAR
