BEGIN:VCALENDAR
VERSION:2.0
PRODID:-//ChamberMaster//Event Calendar 2.0//EN
METHOD:PUBLISH
X-PUBLISHED-TTL:P3D
REFRESH-INTERVAL:P3D
CALSCALE:GREGORIAN
BEGIN:VEVENT
DTSTART:20220527T003000Z
DTEND:20220527T033000Z
X-MICROSOFT-CDO-ALLDAYEVENT:FALSE
SUMMARY:5/26 Young Professionals Business After Hours
DESCRIPTION:In partnership with the Santee Chamber of Commerce\, East County Young Professionals\, and Young Life East County - join us for a Young Professionals Business After Hours.\n\n"Tease your brain & support a great cause!"
X-ALT-DESC;FMTTYPE=text/html:<span style="font-size:18px\;">In partnership with the Santee Chamber of Commerce\, East County Young Professionals\, and Young Life East County - join us for a Young Professionals Business After Hours.<br />\n&quot\;Tease your brain &amp\; support a great cause!&quot\;</span>
LOCATION:The Junction Bar & Grill 777 Jamacha Rd. El Cajon\, CA 92019
UID:e.895.14021
SEQUENCE:3
DTSTAMP:20260420T201230Z
URL:https://business.eastcountychamber.org/events/details/5-26-young-professionals-business-after-hours-14021
END:VEVENT

END:VCALENDAR
