BEGIN:VCALENDAR
VERSION:2.0
PRODID:-//ChamberMaster//Event Calendar 2.0//EN
METHOD:PUBLISH
X-PUBLISHED-TTL:P3D
REFRESH-INTERVAL:P3D
CALSCALE:GREGORIAN
BEGIN:VEVENT
DTSTART:20220528T000000Z
DTEND:20220528T030000Z
X-MICROSOFT-CDO-ALLDAYEVENT:FALSE
SUMMARY:5/27 Business After Hours Mixer Jamul Casino
DESCRIPTION:Kick off your weekend at Jamul Casino! Join us at Loft 94 for our Business After Hours Mixer.  This event will be a great opportunity to bring a prospective member.  FREE and open to new\, current\, and prospective members.
X-ALT-DESC;FMTTYPE=text/html:<span style="font-size:18px\;">Kick off your weekend at Jamul Casino! Join us at Loft 94 for our Business After Hours Mixer.&nbsp\; This event will be a great opportunity to bring a prospective member.&nbsp\; FREE and open to new\, current\, and prospective members.</span>
LOCATION:Jamul Casino Loft 94 14145 Campo Way Jamul\, CA 91935
UID:e.895.14043
SEQUENCE:3
DTSTAMP:20260422T014143Z
URL:https://business.eastcountychamber.org/events/details/5-27-business-after-hours-mixer-jamul-casino-14043
END:VEVENT

END:VCALENDAR
