BEGIN:VCALENDAR
VERSION:2.0
PRODID:-//ChamberMaster//Event Calendar 2.0//EN
METHOD:PUBLISH
X-PUBLISHED-TTL:P3D
REFRESH-INTERVAL:P3D
CALSCALE:GREGORIAN
BEGIN:VEVENT
DTSTART:20220505T163000Z
DTEND:20220505T180000Z
X-MICROSOFT-CDO-ALLDAYEVENT:FALSE
SUMMARY:5/5 BioLife Plasma Services Ribbon Cutting
DESCRIPTION:Celebrate the grand opening of BioLife Plasma Services Lemon Grove.\n\nLight refreshments and facility tours will be provided.
X-ALT-DESC;FMTTYPE=text/html:<span style="font-size:18px\;">Celebrate the grand opening of BioLife Plasma Services Lemon Grove.<br>\nLight refreshments and facility tours will be provided.</span>
LOCATION:BioLife Plasma Services Lemon Grove 7124 Broadway Lemon Grove\, CA 91945
UID:e.895.14000
SEQUENCE:3
DTSTAMP:20260421T220356Z
URL:https://business.eastcountychamber.org/events/details/5-5-biolife-plasma-services-ribbon-cutting-14000
END:VEVENT

END:VCALENDAR
