BEGIN:VCALENDAR
VERSION:2.0
PRODID:-//ChamberMaster//Event Calendar 2.0//EN
METHOD:PUBLISH
X-PUBLISHED-TTL:P3D
REFRESH-INTERVAL:P3D
CALSCALE:GREGORIAN
BEGIN:VEVENT
DTSTART:20220506T010000Z
DTEND:20220506T050000Z
X-MICROSOFT-CDO-ALLDAYEVENT:FALSE
SUMMARY:5/5 Cinco de Mayo Mixer
DESCRIPTION:In partnership with the San Diego County Imperial Valley Hispanic Chamber of Commerce\, come out to Jamul Casino and celebrate Cinco de Mayo. Take in the stunning rooftop views while enjoy food & drinks.
X-ALT-DESC;FMTTYPE=text/html:<span style="font-size:18px\;">In partnership with the San Diego County Imperial Valley Hispanic Chamber of Commerce\, come out to Jamul Casino and celebrate Cinco de Mayo. Take in the stunning rooftop views while enjoy food &amp\; drinks.</span>
LOCATION:Jamul Casino Rooftop 14145 Campo Rd\, Jamul\, CA 91935
UID:e.895.14014
SEQUENCE:3
DTSTAMP:20260422T011244Z
URL:https://business.eastcountychamber.org/events/details/5-5-cinco-de-mayo-mixer-14014
END:VEVENT

END:VCALENDAR
