BEGIN:VCALENDAR
VERSION:2.0
PRODID:-//ChamberMaster//Event Calendar 2.0//EN
METHOD:PUBLISH
X-PUBLISHED-TTL:P3D
REFRESH-INTERVAL:P3D
CALSCALE:GREGORIAN
BEGIN:VEVENT
DTSTART:20210507T150000Z
DTEND:20210507T161500Z
X-MICROSOFT-CDO-ALLDAYEVENT:FALSE
SUMMARY:5/7: First Friday Breakfast
DESCRIPTION:
X-ALT-DESC;FMTTYPE=text/html:
LOCATION:Virtual First Friday Breakfast! RSVP to get access!
UID:e.895.13380
SEQUENCE:3
DTSTAMP:20260423T185246Z
URL:https://business.eastcountychamber.org/events/details/5-7-first-friday-breakfast-13380
END:VEVENT

END:VCALENDAR
