BEGIN:VCALENDAR
VERSION:2.0
PRODID:-//ChamberMaster//Event Calendar 2.0//EN
METHOD:PUBLISH
X-PUBLISHED-TTL:P3D
REFRESH-INTERVAL:P3D
CALSCALE:GREGORIAN
BEGIN:VEVENT
DTSTART:20260329T133000Z
DTEND:20260329T170000Z
X-MICROSOFT-CDO-ALLDAYEVENT:FALSE
SUMMARY:5k Walk & Run - Boys & Girls Club of Kumeyaay Nation Wellness
DESCRIPTION:
X-ALT-DESC;FMTTYPE=text/html:
LOCATION:Don't miss the Boys & Girls Club of La Posta upcoming 5k - happening at Liberty Station. Sponsorships are still available\, and all sponsors will receive a table at the 5K to promote their organization and engage with participants and other vendors. sihc.org/5k
UID:e.895.21995
SEQUENCE:3
DTSTAMP:20260424T010909Z
URL:https://business.eastcountychamber.org/events/details/5k-walk-run-boys-girls-club-of-kumeyaay-nation-wellness-21995
END:VEVENT

END:VCALENDAR
