BEGIN:VCALENDAR
VERSION:2.0
PRODID:-//ChamberMaster//Event Calendar 2.0//EN
METHOD:PUBLISH
X-PUBLISHED-TTL:P3D
REFRESH-INTERVAL:P3D
CALSCALE:GREGORIAN
BEGIN:VEVENT
DTSTART:20260613T000000Z
DTEND:20260613T020000Z
X-MICROSOFT-CDO-ALLDAYEVENT:FALSE
SUMMARY:6/12 Business After Hours Mixer - East County Art Association
DESCRIPTION:Join us at the Opening Night Reception of East County Art Association's Ocean Love Exhibit.
X-ALT-DESC;FMTTYPE=text/html:<span style="font-size:18px\;">Join us at the Opening Night Reception of East County Art Association&#39\;s&nbsp\;<em>Ocean Love</em>&nbsp\;Exhibit.</span><br />\n&nbsp\;
LOCATION:East County Art Association 124 E Main St. El Cajon\, CA 92020
UID:e.895.22096
SEQUENCE:3
DTSTAMP:20260423T133511Z
URL:https://business.eastcountychamber.org/events/details/6-12-business-after-hours-mixer-east-county-art-association-22096
END:VEVENT

END:VCALENDAR
