BEGIN:VCALENDAR
VERSION:2.0
PRODID:-//ChamberMaster//Event Calendar 2.0//EN
METHOD:PUBLISH
X-PUBLISHED-TTL:P3D
REFRESH-INTERVAL:P3D
CALSCALE:GREGORIAN
BEGIN:VEVENT
DTSTART:20220616T003000Z
DTEND:20220616T033000Z
X-MICROSOFT-CDO-ALLDAYEVENT:FALSE
SUMMARY:6/15 Business After Hours at University Club
DESCRIPTION:Take in the stunning views of Downtown San Diego at the University Club atop Symphony Towers as you network after work. Enjoy beverages and complimentary hors d'oeuvres.\n\nDress Code: business casual
X-ALT-DESC;FMTTYPE=text/html:<p class="_04xlpA direction-ltr align-center para-style-body" style="color: rgb(0\, 0\, 0)\; font-family: &quot\;YAEe1vUrMMo 0&quot\;\, _fb_\, auto\; --font-size:29.3336px\; --line-height:1.4\; line-height: 41px\;"><span style="color:#000000\;"><span style="font-size:18px\;"><span class="JsGRdQ" style="font-weight: 700\;">Take in the stunning views of Downtown San Diego<span class="JsGRdQ white-space-prewrap" style="font-weight: 700\;"> </span>at the University Club atop Symphony Towers as you network after work. Enjoy beverages and complimentary hors d&#39\;oeuvres.<br />\nDress Code: business casual</span></span></span></p>\n
LOCATION:University Club atop Symphony Towers 750 B St. Suite 3400 San Diego\, CA 92101
UID:e.895.14067
SEQUENCE:3
DTSTAMP:20260421T220834Z
URL:https://business.eastcountychamber.org/events/details/6-15-business-after-hours-at-university-club-14067
END:VEVENT

END:VCALENDAR
